BEGIN:VCALENDAR
VERSION:2.0
PRODID:-//Gašper Bergant - ECPv5.3.1.1//NONSGML v1.0//EN
CALSCALE:GREGORIAN
METHOD:PUBLISH
X-WR-CALNAME:Gašper Bergant
X-ORIGINAL-URL:https://gasperbergant.si
X-WR-CALDESC:Events for Gašper Bergant
BEGIN:VTIMEZONE
TZID:UTC
BEGIN:STANDARD
TZOFFSETFROM:+0000
TZOFFSETTO:+0000
TZNAME:UTC
DTSTART:20200101T000000
END:STANDARD
END:VTIMEZONE
BEGIN:VEVENT
DTSTART;TZID=UTC:20200620T210000
DTEND;TZID=UTC:20200620T223000
DTSTAMP:20260424T152641
CREATED:20200615T124955Z
LAST-MODIFIED:20200615T124955Z
UID:297-1592686800-1592692200@gasperbergant.si
SUMMARY:1. DRIVE-IN STAND UP VEČER v Sloveniji
DESCRIPTION:V knežje mesto prihaja 1. DRIVE-IN STAND UP VEČER v Sloveniji!\nEdinstven koncept drive-in stand up-a bo brez dvoma navdušil vse ljubitelje stand up komedije\, saj bo z nami “sveta trojica” – Aleš Novak\, Gašper Bergant in Uroš Kuzman.\nPripravite se na večer smeha\, zabave in nepozabnih trenutkov na našem drive-in prizorišču!\nŠtevilo mest za avte je omejeno!\nVstopnice na voljo na: https://shop.ce-sejem.si/ (nakup možen od 12. 6. dalje)\n*V primeru dežja bo stand-up večer potekal v Modri dvorani Celjskega sejma (upravna stavba).\n————–\nMedijski partner: Radio Fantasy
URL:https://gasperbergant.si/event/1-drive-in-stand-up-vecer-v-sloveniji/
LOCATION:Celjski sejem d.d.\, Dečkova cesta 1\, Celje\, 3000\, Slovenija
ATTACH;FMTTYPE=image/jpeg:https://gasperbergant.si/wp-content/uploads/2020/06/104330518_2953720688016258_5504370644079205282_o.jpg
END:VEVENT
END:VCALENDAR