BEGIN:VCALENDAR
VERSION:2.0
PRODID:-//Gašper Bergant - ECPv5.3.1.1//NONSGML v1.0//EN
CALSCALE:GREGORIAN
METHOD:PUBLISH
X-WR-CALNAME:Gašper Bergant
X-ORIGINAL-URL:https://gasperbergant.si
X-WR-CALDESC:Events for Gašper Bergant
BEGIN:VTIMEZONE
TZID:UTC
BEGIN:STANDARD
TZOFFSETFROM:+0000
TZOFFSETTO:+0000
TZNAME:UTC
DTSTART:20210101T000000
END:STANDARD
END:VTIMEZONE
BEGIN:VEVENT
DTSTART;TZID=UTC:20210722T180000
DTEND;TZID=UTC:20210722T200000
DTSTAMP:20260424T114745
CREATED:20210722T083721Z
LAST-MODIFIED:20210722T083721Z
UID:462-1626976800-1626984000@gasperbergant.si
SUMMARY:Dogodek ob obnovitvi legendarne brivnice Ozbič v Postojni
DESCRIPTION:
URL:https://gasperbergant.si/event/dogodek-ob-obnovitvi-legendarne-brivnice-ozbic-v-postojni/
ATTACH;FMTTYPE=image/jpeg:https://gasperbergant.si/wp-content/uploads/2021/07/65910150.jpg
END:VEVENT
END:VCALENDAR