BEGIN:VCALENDAR
VERSION:2.0
PRODID:-//Gašper Bergant - ECPv5.3.1.1//NONSGML v1.0//EN
CALSCALE:GREGORIAN
METHOD:PUBLISH
X-WR-CALNAME:Gašper Bergant
X-ORIGINAL-URL:https://gasperbergant.si
X-WR-CALDESC:Events for Gašper Bergant
BEGIN:VTIMEZONE
TZID:UTC
BEGIN:STANDARD
TZOFFSETFROM:+0000
TZOFFSETTO:+0000
TZNAME:UTC
DTSTART:20220101T000000
END:STANDARD
END:VTIMEZONE
BEGIN:VEVENT
DTSTART;TZID=UTC:20220326T200000
DTEND;TZID=UTC:20220326T213000
DTSTAMP:20260424T115026
CREATED:20220321T081255Z
LAST-MODIFIED:20220321T081432Z
UID:479-1648324800-1648330200@gasperbergant.si
SUMMARY:FANTOVŠČINA - stand-up komedija
DESCRIPTION:FANTOVŠČINA\nstand-up komedija\nLeta divjaštva so za njimi.\nSveži tridesetletniki\, zreli najstniki in zeleni možje za katerimi so leta divjaštva mimo in jim odgovornost močno trka na vrata\, so primorani sprejeti življenjsko pomembne odločitve.\nHudomušni Sašo\, navihani Žan in vedno črni Gašper. Gre za tri dokaj lepe mladeniče\, genijalce oziroma loleke povprečnega izgleda\, ki poskušajo razumeti življenje okrog sebe.\nV predstavi Fantovščina bodo delili fantastične nasvete za samske kot tudi za tiste\, ki so že v zvezi. A ste se kdaj želeli smejat svoji propadajoči zvezi?\nZdaj se lahko.\nNajprej štalca pol pa kravca? Cene štalc so nedosegljive\, kravce pa še ni.\nČas je za prvo inventuro življenja.\nNič več žurk in ponočevanj. Punca\, poroka\, služba. Kredit. Nič več neuspelih poskusov. Zdaj gre zares! Si ali nisi z nami?\n GAŠPER BERGANT je najopaznejši domači stand-up komik mlajše generacije in soustvarjalec TV-serij Skečoholiki\, Kaj dogaja\, Žar ter Vid in Pero show. Ljubezen do humorja ga je speljala od faksa\, ljubezen do žensk pa stran od razuma. Je mešanica prijetno agresivnega medveda ter premalo povoženega dihurja\, ki redno podira meje sprejemljivega. Savinjčan ne pozna pomena besede tabu in ruši stereotip o zadržanosti Slovencev. Občinstvo osvaja s črnim humorjem in navidezno neobzirnostjo\, zase pa ne misli\, da ima naglas ali\, da je z njegovim razmišljanjem kaj narobe. Tako prikupno neobziren je\, da občinstvo po nastopih pove\, da je tako čez rob\, da je že vredu.\n SAŠO STARE je zelo izpostavljen stand up komik zaradi svojega smeha\, pojave in seveda tudi tega\, ker je voditelj oddaje Slovenija ima talent na POP TV ju. Kranjčan je soustvarjal Vid in Pero Show ter Skečoholike in odvodil\, zimproviziral ali odstendapiral na praktično vseh odrih Slovenije. Sašo je sarkastičen in zrel mladenič. Četudi se kdaj nima rad\, ga publika obožuje. Prvič v skupnem projektu z Gašperjem in Žanom. Nevarna kombinacija\, ki samo čaka\, da eksplodira. Seveda v komičnem smislu in komaj čakamo to eksplozijo.\n ŽAN PAPIČ je tiste vrste človek\, ki se mora stalno malo držati nazaj\, da imamo drugi sploh šanso. Genij\, ki ga je mati narava ošibila z lenobo\, ker bi drugače bil predober. Nogometaš brez žoge in poet brez peresa. Večino časa je živel v Sežani\, ki je pomemben del njegovega ustvarjanja\, saj sta si Kosovelom precej dobra\, potem pa se je odpravil iskat sebe najprej v Ljubljano in nato še v Avstralijo. Po vrnitvi ga je publika zelo hitro vzljubila zaradi svežine\, ki jo je vnesel na sceno\, pa tudi zaradi unikatnega kraškega naglasa in lahkotnega pristopa k življenju.
URL:https://gasperbergant.si/event/fantovscina-stand-up-komedija/
LOCATION:Siti teater BTC\, Ameriška ulica 3\, LJUBLJANA\, 1000\, Slovenija
ATTACH;FMTTYPE=image/jpeg:https://gasperbergant.si/wp-content/uploads/2022/03/274885526_102058905791267_1424890227958154592_n.jpg
END:VEVENT
END:VCALENDAR