BEGIN:VCALENDAR
VERSION:2.0
PRODID:-//Gašper Bergant - ECPv5.3.1.1//NONSGML v1.0//EN
CALSCALE:GREGORIAN
METHOD:PUBLISH
X-WR-CALNAME:Gašper Bergant
X-ORIGINAL-URL:https://gasperbergant.si
X-WR-CALDESC:Events for Gašper Bergant
BEGIN:VTIMEZONE
TZID:UTC
BEGIN:STANDARD
TZOFFSETFROM:+0000
TZOFFSETTO:+0000
TZNAME:UTC
DTSTART:20200101T000000
END:STANDARD
END:VTIMEZONE
BEGIN:VEVENT
DTSTART;TZID=UTC:20200731T190000
DTEND;TZID=UTC:20200731T210000
DTSTAMP:20260424T133119
CREATED:20200728T110528Z
LAST-MODIFIED:20200728T110528Z
UID:328-1596222000-1596229200@gasperbergant.si
SUMMARY:Gašper Bergant – Stand-up večer (PONOVITEV)
DESCRIPTION:Gašper Bergant je eden najbolj duhovitih in kreativnih slovenskih stand-up komikov. Zato nikar ne dvomite o tem\, da tisti petek ne bo za počit od smeha. S svojim značilnim naglasom\, s katerim se ponosno postavlja na kmetijo v domače Luče ter v šale obrnjenimi vsakdanjimi in aktualnimi družbenimi dogajanji\, spravi v smeh še tako zahtevne in zadržane poslušalce stand-up zvrsti. Cena vstopnice: 10 evrov\nVstopnice so že na voljo v kavarni Ruske dače v Zg. Gameljnah. Rezervacije lahko uredite po e-pošti vila@ruska-daca.si ali pokličite na 068 646 148.
URL:https://gasperbergant.si/event/gasper-bergant-stand-up-vecer-ponovitev/
LOCATION:Ruska dača\, Zgornje Gameljne 18\, Ljubljana\, 1000\, Slovenija
ATTACH;FMTTYPE=image/jpeg:https://gasperbergant.si/wp-content/uploads/2020/07/103373699_1654958661334044_7550423134298174844_o.jpg
END:VEVENT
END:VCALENDAR