BEGIN:VCALENDAR
VERSION:2.0
PRODID:-//Gašper Bergant - ECPv5.3.1.1//NONSGML v1.0//EN
CALSCALE:GREGORIAN
METHOD:PUBLISH
X-WR-CALNAME:Gašper Bergant
X-ORIGINAL-URL:https://gasperbergant.si
X-WR-CALDESC:Events for Gašper Bergant
BEGIN:VTIMEZONE
TZID:UTC
BEGIN:STANDARD
TZOFFSETFROM:+0000
TZOFFSETTO:+0000
TZNAME:UTC
DTSTART:20200101T000000
END:STANDARD
END:VTIMEZONE
BEGIN:VEVENT
DTSTART;TZID=UTC:20200704T203000
DTEND;TZID=UTC:20200704T220000
DTSTAMP:20260424T145803
CREATED:20200629T070330Z
LAST-MODIFIED:20200707T105935Z
UID:307-1593894600-1593900000@gasperbergant.si
SUMMARY:Kulturni vikend v Volčah - KUGA
DESCRIPTION:Volče na placu\n18:30: Otvoritev razstave znanstvenih ilustracij “Mikro”\, Tjaša Bon (prostori KS)\n19:30: Tanja Srednik (vokal) in Mitja Jan (kitara)\n20:30: Stand up komedija z Gašperjem Bergantom in Maticem Kokošarjem\n22:00: Skupina Damačica\n\nDogodek je bil odpovedan.
URL:https://gasperbergant.si/event/kulturni-vikend-v-volcah-kuga/
LOCATION:Volče
ATTACH;FMTTYPE=image/jpeg:https://gasperbergant.si/wp-content/uploads/2020/06/105591020_1350576815136293_8512579244868597522_n.jpg
ORGANIZER;CN="%C5%A0portno%20kulturno%20dru%C5%A1tvo%20U%C4%8CE":MAILTO:skdvolce@gmail.com
END:VEVENT
END:VCALENDAR