BEGIN:VCALENDAR
VERSION:2.0
PRODID:-//Gašper Bergant - ECPv5.3.1.1//NONSGML v1.0//EN
CALSCALE:GREGORIAN
METHOD:PUBLISH
X-WR-CALNAME:Gašper Bergant
X-ORIGINAL-URL:https://gasperbergant.si
X-WR-CALDESC:Events for Gašper Bergant
BEGIN:VTIMEZONE
TZID:UTC
BEGIN:STANDARD
TZOFFSETFROM:+0000
TZOFFSETTO:+0000
TZNAME:UTC
DTSTART:20200101T000000
END:STANDARD
END:VTIMEZONE
BEGIN:VEVENT
DTSTART;TZID=UTC:20200621T190000
DTEND;TZID=UTC:20200621T220000
DTSTAMP:20260424T145915
CREATED:20200615T125613Z
LAST-MODIFIED:20200615T125613Z
UID:302-1592766000-1592776800@gasperbergant.si
SUMMARY:Moč za pomoč
DESCRIPTION:V nedeljo\, 21. junija si bodo odre na štirih čudovitih prizoriščih starega mestnega jedra Kopra izmenjevali stand-up komiki:\nUroš Kuzman\, Gašper Bergant\, Marko Žerjal in Žan Papič ter David Gorinšek\, Tjaš Esih\, Dejan Ikovic – Bushi in Mark Đamastagić.\n\nPrizorišča dogajanja:\n• Lapidarij Pokrajinskega Muzeja Koper (v primeru slabega vremena: Dvorana Piano Nobile Pokrajinskega muzeja Koper)\,\n• Kapodistriasov trg oziroma dvorišče pred Pokrajinskim arhivom Koper (v primeru slabega vremena: Gledališče Koper)\,\n• Martinčev trg (v primeru slabega vremena: Protokolarno-prireditvena dvorana sv. Frančiška Asiškega)\n• Letni vrt Skupnosti Italijanov Koper – Circolo (v primeru slabega vremena: Dvorana Alma Mater Europaea\, Verdijeva ulica)
URL:https://gasperbergant.si/event/moc-za-pomoc/
LOCATION:Visit Koper\, Titov trg 3\, Koper\, 6000\, Slovenija
ATTACH;FMTTYPE=image/jpeg:https://gasperbergant.si/wp-content/uploads/2020/06/ggg.jpg
END:VEVENT
END:VCALENDAR