BEGIN:VCALENDAR
VERSION:2.0
PRODID:-//Gašper Bergant - ECPv5.3.1.1//NONSGML v1.0//EN
CALSCALE:GREGORIAN
METHOD:PUBLISH
X-WR-CALNAME:Gašper Bergant
X-ORIGINAL-URL:https://gasperbergant.si
X-WR-CALDESC:Events for Gašper Bergant
BEGIN:VTIMEZONE
TZID:UTC
BEGIN:STANDARD
TZOFFSETFROM:+0000
TZOFFSETTO:+0000
TZNAME:UTC
DTSTART:20200101T000000
END:STANDARD
END:VTIMEZONE
BEGIN:VEVENT
DTSTART;TZID=UTC:20200911T200000
DTEND;TZID=UTC:20200911T230000
DTSTAMP:20260424T133405
CREATED:20200810T120453Z
LAST-MODIFIED:20200810T120453Z
UID:342-1599854400-1599865200@gasperbergant.si
SUMMARY:PPF 2020: Stand up | Gašper Bergant in Sašo Stare
DESCRIPTION:Na poznopoletnem večeru smeha nas bosta do solz nasmejala priljubljena mlada stand up komika.\n\n\nGašper Bergant  iz Luč je po zgornjesavinjskem narečju skorajda tako poznan kot po svojem humorju. Popolnoma se razneži ob pogledu na gozdnega jereba in cvet planike\, a naj vas njegova romantična plat ne zavede\, saj je na odru neusmiljen. Menda se včasih ljudje ne morejo odločiti ali bi ga pretepli ali bi se mu smejali\, vendar je do sedaj zmeraj pretehtalo slednje. No\, tokrat pa prva možnost sploh odpade – saj veste\, varnostna razdalja! \n\n\nSašo Stare je improvizator\, igralec\, animator\, moderator\, še nekaj na -ator in stand up komik. Prihaja iz Kranja in načeloma velja za dobrega človeka … Razen če je lačen. Zase pravi\, da je egocentrik\, katerega največja želja bi bila skočiti nazaj v čas in spoznati samega sebe\, če le ne bi bil tako len\, da bi zgradil časovni stroj. Videli smo ga lahko že v mnogo televizijskih oddajah\, serijah\, oglasih in na oddelku s sladkarijami v bližnji trgovini. Pa tudi na našem odru ga bomo! 
URL:https://gasperbergant.si/event/ppf-2020-stand-up-gasper-bergant-in-saso-stare/
LOCATION:Mladinski center Šmartno ob Paki\, Šmartno ob Paki 13\, Šmartno ob Paki\, 3327\, Slovenija
ATTACH;FMTTYPE=image/jpeg:https://gasperbergant.si/wp-content/uploads/2020/08/117244105_2676234185961826_5041334230036174750_o.jpg
END:VEVENT
END:VCALENDAR