BEGIN:VCALENDAR
VERSION:2.0
PRODID:-//Gašper Bergant - ECPv5.3.1.1//NONSGML v1.0//EN
CALSCALE:GREGORIAN
METHOD:PUBLISH
X-WR-CALNAME:Gašper Bergant
X-ORIGINAL-URL:https://gasperbergant.si
X-WR-CALDESC:Events for Gašper Bergant
BEGIN:VTIMEZONE
TZID:UTC
BEGIN:STANDARD
TZOFFSETFROM:+0000
TZOFFSETTO:+0000
TZNAME:UTC
DTSTART:20200101T000000
END:STANDARD
END:VTIMEZONE
BEGIN:VEVENT
DTSTART;TZID=UTC:20201009T190000
DTEND;TZID=UTC:20201009T220000
DTSTAMP:20260424T132714
CREATED:20201006T063404Z
LAST-MODIFIED:20201006T063404Z
UID:359-1602270000-1602280800@gasperbergant.si
SUMMARY:PUB QUIZ part 2 : quiz master: Gašper Bergant
DESCRIPTION:PUB QUIZ PT. 2! Če želite biti del najboljšega quiza\, potem ne odlašajte s prijavo! Prostora je samo za 6 ekip. \nPRAVILA:\nQuiz master\, ki je v našem primeru Gašper Bergant prebere vprašanja\, ki so lahko bodisi: Kakšne barve je zastava Bolgarije\, kje se je rodil Prešeren\, najdaljša reka\, koliko delov ima film Sam doma\, itd. Splošno a vseeno mešano na žaru.\nKviz je sestavljen iz 20 vprašanj\, pri katerih ekipa napiše odgovor na tablico in jo pokaže quiz mastru. V primeru\, da pride do izenačenja izenačenje sledi bonus vprašanje. \nPridite\, preverite svoje znanje in se zraven še nakaj naučite! \nPrijavnina znaša 15€ na ekipo.\nProstora je za 6 ekip\, za katere je potrebna rezervacija na povezavi: https://forms.gle/4mg4W18bbJ7bXnvYA\nMinimalno število tekmovalcev v ekipi: 2\, maksimalno: 6.\nQuiz master: Gašper Bergant\nNagrade:\nEkipam se po končani igri odpre miza z zmagovalnim zneskom.\n1. Ekipa: 25 €\n2. Ekipa: 15 €\n3. Ekipa: 10 €\nDogodek bo izveden v skladu s pravili NIJZ.
URL:https://gasperbergant.si/event/pub-quiz-part-2-quiz-master-gasper-bergant/
LOCATION:Kmkc Kompleks\, Čečovlje 5\, Ravne na Koroškem\, Slovenija
ATTACH;FMTTYPE=image/png:https://gasperbergant.si/wp-content/uploads/2020/10/Screenshot_1.png
END:VEVENT
END:VCALENDAR