BEGIN:VCALENDAR
VERSION:2.0
PRODID:-//Gašper Bergant - ECPv5.3.1.1//NONSGML v1.0//EN
CALSCALE:GREGORIAN
METHOD:PUBLISH
X-WR-CALNAME:Gašper Bergant
X-ORIGINAL-URL:https://gasperbergant.si
X-WR-CALDESC:Events for Gašper Bergant
BEGIN:VTIMEZONE
TZID:UTC
BEGIN:STANDARD
TZOFFSETFROM:+0000
TZOFFSETTO:+0000
TZNAME:UTC
DTSTART:20200101T000000
END:STANDARD
END:VTIMEZONE
BEGIN:VEVENT
DTSTART;TZID=UTC:20200926T200000
DTEND;TZID=UTC:20200926T200000
DTSTAMP:20260424T133822
CREATED:20200921T121513Z
LAST-MODIFIED:20200921T121513Z
UID:350-1601150400-1601150400@gasperbergant.si
SUMMARY:SHOES V GLAVO
DESCRIPTION:D Brus braders\, Kosovelov dom Sežana\nSHOES U GLAVO\nKomedija.\n\nIgrajo: Boris Devetak\, Žan Papič\, Dominik Vodopivec in Gašper Bergant\nHumoristični gledališki projekt Shoes u glavo je serija kratkih\, krotkih in krutih zgodb iz našega vsakdana.\nKaj imajo skupnega banka\, bolnišnica\, avtomobil\, politika\, pokopališče in gostilna?\nNekaj že\, a skupni imenovalec je\, kljub tragikomičnim situacijam samo en. SMEH.
URL:https://gasperbergant.si/event/shoes-v-glavo/
LOCATION:Gledališče Koper\, Verdijeva ulica 3\, Koper\, 1000\, Slovenija
ATTACH;FMTTYPE=image/jpeg:https://gasperbergant.si/wp-content/uploads/2020/09/119650708_172972320981056_2965435614419939196_n.jpg
END:VEVENT
END:VCALENDAR