BEGIN:VCALENDAR
VERSION:2.0
PRODID:-//Gašper Bergant - ECPv5.3.1.1//NONSGML v1.0//EN
CALSCALE:GREGORIAN
METHOD:PUBLISH
X-WR-CALNAME:Gašper Bergant
X-ORIGINAL-URL:https://gasperbergant.si
X-WR-CALDESC:Events for Gašper Bergant
BEGIN:VTIMEZONE
TZID:UTC
BEGIN:STANDARD
TZOFFSETFROM:+0000
TZOFFSETTO:+0000
TZNAME:UTC
DTSTART:20200101T000000
END:STANDARD
END:VTIMEZONE
BEGIN:VEVENT
DTSTART;TZID=UTC:20200716T210000
DTEND;TZID=UTC:20200716T223000
DTSTAMP:20260424T134821
CREATED:20200710T065709Z
LAST-MODIFIED:20200710T065709Z
UID:318-1594933200-1594938600@gasperbergant.si
SUMMARY:Stand up Avtmigeci
DESCRIPTION:Avtmigeci smo mladi\, več ali manj neznani komiki\, ki v avditoriju Lutkovnega gledališča “testiramo” nove šale. V tujini temu rečejo “open mic”\, pri nas pa smo enostavno “Avtmigeci”.\nTokrat povezuje Gašper Bergant\, dobro znani Zgornje Savinčan. “Avtmigali” pa bomo: David Gorinšek\, Blendor Sefaj\, Dejan Ikovic – Bushi in Matej Taubi !\nOglasi se ! Na odru torej slišiš mlade komike\, ki si šele utirajo svojo pot k smešnosti. Ali pa malce starejše komike\, ki pridejo preizkušat “novi material”.\nPridi se režat – Pridi podpret novi val Štajerske komedije.
URL:https://gasperbergant.si/event/stand-up-avtmigeci/
LOCATION:Lutkovno gledališče Maribor\, Vojašniški trg 2 a\, Maribor\, 2000\, Slovenija
ATTACH;FMTTYPE=image/jpeg:https://gasperbergant.si/wp-content/uploads/2020/07/106916084_998776043869000_498178599201335337_n.jpg
END:VEVENT
END:VCALENDAR