BEGIN:VCALENDAR
VERSION:2.0
PRODID:-//Gašper Bergant - ECPv5.3.1.1//NONSGML v1.0//EN
CALSCALE:GREGORIAN
METHOD:PUBLISH
X-WR-CALNAME:Gašper Bergant
X-ORIGINAL-URL:https://gasperbergant.si
X-WR-CALDESC:Events for Gašper Bergant
BEGIN:VTIMEZONE
TZID:UTC
BEGIN:STANDARD
TZOFFSETFROM:+0000
TZOFFSETTO:+0000
TZNAME:UTC
DTSTART:20210101T000000
END:STANDARD
END:VTIMEZONE
BEGIN:VEVENT
DTSTART;TZID=UTC:20210708T190000
DTEND;TZID=UTC:20210708T190000
DTSTAMP:20260424T133412
CREATED:20210706T114146Z
LAST-MODIFIED:20210706T123412Z
UID:421-1625770800-1625770800@gasperbergant.si
SUMMARY:STAND UP večer z Bergantom in Pušnikom
DESCRIPTION:Malo smeha ob tej vročini ne škodi … Bomo vsaj vedeli\, zakaj smo mokri …(od solz smeha\, se razume!) \nDo solz vas bosta nasmejala in vam polepšala večer Gašper Bergant in Matej Pušnik.\nKDO JE TO?\nPravi\, da medtem ko mestne srajce iščejo bejbike v miničih\, on išče ženske v firtohih. Razneži se ob pogledu na gozdnega jereba in cvet planike\, a naj vas njegova romantična plat ne zavede\, saj je na odru neusmiljen in ne izbira svojih »žrtev«.  Slišali smo govoriti\, da se včasih ljudje ne morejo odločiti ali bi ga pretepli ali bi se mu smejali\, vendar je do sedaj zmeraj prevagalo slednje.\nVerjetno ste komaj uganili … Zato vam bomo olajšali delo in brez ugank predstavili še Mateja. Matej Pušnik je komik mlajše generacije\, ki je predvsem znan po tem\, da snema intervjuje s komiki in dela portrete.  Pazite\, da mu ne boste prišli preblizu. Tudi iz vas lahko naredi kakšen portret. \nVstop na prizorišče je možen od 19. ure dalje\, vstopnice pa kupite na blagajni Pišek bara na dan dogodka. To je v četrtek\, 8. junija od 7. ure dalje.  Smejat se začnemo ob 21. uri. \nSMEŠNO VABLJENI!\nSe vidimo!
URL:https://gasperbergant.si/event/stand-up-vecer-z-bergantom-in-pusnikom/
LOCATION:Pišek bar\, Lopata 17\, Celje\, Slovenija
ATTACH;FMTTYPE=image/jpeg:https://gasperbergant.si/wp-content/uploads/2021/07/209934217_4390426167680584_389477787275037256_n.jpg
END:VEVENT
END:VCALENDAR