BEGIN:VCALENDAR
VERSION:2.0
PRODID:-//Gašper Bergant - ECPv5.3.1.1//NONSGML v1.0//EN
CALSCALE:GREGORIAN
METHOD:PUBLISH
X-WR-CALNAME:Gašper Bergant
X-ORIGINAL-URL:https://gasperbergant.si
X-WR-CALDESC:Events for Gašper Bergant
BEGIN:VTIMEZONE
TZID:UTC
BEGIN:STANDARD
TZOFFSETFROM:+0000
TZOFFSETTO:+0000
TZNAME:UTC
DTSTART:20200101T000000
END:STANDARD
END:VTIMEZONE
BEGIN:VEVENT
DTSTART;TZID=UTC:20201006T190000
DTEND;TZID=UTC:20201006T190000
DTSTAMP:20260424T133314
CREATED:20200924T081429Z
LAST-MODIFIED:20200924T081429Z
UID:355-1602010800-1602010800@gasperbergant.si
SUMMARY:Stand up večer
DESCRIPTION:Nasmejal nas bo večni študent\, Gašper Bergant.\n\nŠtudenska organizacija Univerze na Primorskem vabi študente UP in FPP na brezplačen stand up večer z Gašperjem Bergantom\, ki bo potekal 6. oktobra 2020 ob 19. uri v koprski Taverni. \nGašper Bergant je Zgornjesavinjčan\, ki ima rad suho meso\, pivo\, vonj po senu ter starejše ženske (se pravi nad 26). V tem vrstnem redu. Orje ledino in podira meje sprejemljivega v slovenski stand-up komediji. \nObiskoval je Škofijsko klasično gimnazijo\, nekaj časa. Obiskoval je Fakulteto za arhitekturo\, nekaj časa. Pred parimi leti je prišel do točke\, ali gre k psihiatru\, ali pa se prične ukvarjati s komedijo. Odločil se je za slednjo. Dobra odločitev! \nPrijave: spletni obrazec \nOb prihodu je potrebno izkazati status študenta z veljavno študentsko izkaznico ali elektronskim indeksom (na pametnem telefonu – ŠIS/VIS).
URL:https://gasperbergant.si/event/stand-up-vecer/
ORGANIZER;CN="%C5%A0tudenska%20organizacija%20Univerze%20na%20Primorskem":MAILTO:https://soup.si/sl
END:VEVENT
END:VCALENDAR